BEGIN:VCALENDAR
VERSION:2.0
PRODID:-// - ECPv6.15.11//NONSGML v1.0//EN
CALSCALE:GREGORIAN
METHOD:PUBLISH
X-ORIGINAL-URL:https://northwestpiedmontmasternaturalist.org
X-WR-CALDESC:Events for 
REFRESH-INTERVAL;VALUE=DURATION:PT1H
X-Robots-Tag:noindex
X-PUBLISHED-TTL:PT1H
BEGIN:VTIMEZONE
TZID:America/New_York
BEGIN:DAYLIGHT
TZOFFSETFROM:-0500
TZOFFSETTO:-0400
TZNAME:EDT
DTSTART:20250309T070000
END:DAYLIGHT
BEGIN:STANDARD
TZOFFSETFROM:-0400
TZOFFSETTO:-0500
TZNAME:EST
DTSTART:20251102T060000
END:STANDARD
BEGIN:DAYLIGHT
TZOFFSETFROM:-0500
TZOFFSETTO:-0400
TZNAME:EDT
DTSTART:20260308T070000
END:DAYLIGHT
BEGIN:STANDARD
TZOFFSETFROM:-0400
TZOFFSETTO:-0500
TZNAME:EST
DTSTART:20261101T060000
END:STANDARD
BEGIN:DAYLIGHT
TZOFFSETFROM:-0500
TZOFFSETTO:-0400
TZNAME:EDT
DTSTART:20270314T070000
END:DAYLIGHT
BEGIN:STANDARD
TZOFFSETFROM:-0400
TZOFFSETTO:-0500
TZNAME:EST
DTSTART:20271107T060000
END:STANDARD
END:VTIMEZONE
BEGIN:VEVENT
DTSTART;TZID=America/New_York:20260221T090000
DTEND;TZID=America/New_York:20260221T150000
DTSTAMP:20260425T093325
CREATED:20251011T125728Z
LAST-MODIFIED:20260107T143541Z
UID:2106-1771664400-1771686000@northwestpiedmontmasternaturalist.org
SUMMARY:Bethania
DESCRIPTION:Bethania nature trails and Bethania history classroom \nReading the landscape – Human impacts from the Moravians to today
URL:https://northwestpiedmontmasternaturalist.org/event/bethania/
LOCATION:Bethania Visitor Center\, 5393 Ham Horton Ln\, Bethania\, NC\, 27010\, United States
CATEGORIES:MN2026
END:VEVENT
BEGIN:VEVENT
DTSTART;TZID=America/New_York:20260221T153000
DTEND;TZID=America/New_York:20260221T173000
DTSTAMP:20260425T093325
CREATED:20260217T183149Z
LAST-MODIFIED:20260217T183220Z
UID:2247-1771687800-1771695000@northwestpiedmontmasternaturalist.org
SUMMARY:Social - Bethania
DESCRIPTION:Joymongers features a rotating selection of our versions of almost every style from IPAs to Lagers and Stouts to Sours. There is always something new to try. On one visit to us in the West End\, our fans can sample a world of beer styles crafted in our locally owned Greensboro brewery. Visitors who may not be beer fans have lots of other great drink choices\, both alcoholic and non-alcoholic. \nSeating over 200 at tables and benches and a 50 foot bar\, all crafted by local artisans\, Joymongers- Winston is family friendly by day and cutting edge at night. We offer the best artists and bands on Friday and Saturday night Free Live Music along with bingo and trivia game nights and rousing games of darts and cornhole. If you are hungry a huge selection of delicious food can be delivered right to your table from our friends and neighbors next door at That Place in the West End.
URL:https://northwestpiedmontmasternaturalist.org/event/social-bethania/
LOCATION:Joymongers W-S\, 480 W End Blvd\, Winston-Salem\, NC\, 27101\, United States
CATEGORIES:Social
END:VEVENT
BEGIN:VEVENT
DTSTART;TZID=America/New_York:20260321T090000
DTEND;TZID=America/New_York:20260321T150000
DTSTAMP:20260425T093325
CREATED:20260107T144154Z
LAST-MODIFIED:20260107T144819Z
UID:2175-1774083600-1774105200@northwestpiedmontmasternaturalist.org
SUMMARY:Ridges Mt and Caraway Creek Preserve
DESCRIPTION:Uwharries geology; ephemeral wetland ecology; flora of the Outer Piedmont \nGPS: 35.72445\, -79.94685 \nThis is the start of Summit Ct\, just drive down to the end of the road. There is a big sign at the intersection with Ridges Mountain Trail pointing the way.
URL:https://northwestpiedmontmasternaturalist.org/event/ridges-mt-and-caraway-creek-preserve/
LOCATION:Ridges Mountain\, 400-504 Summit Ct\, Asheboro\, NC\, 27205
CATEGORIES:MN2026
END:VEVENT
BEGIN:VEVENT
DTSTART;TZID=America/New_York:20260321T153000
DTEND;TZID=America/New_York:20260321T170000
DTSTAMP:20260425T093325
CREATED:20260107T144418Z
LAST-MODIFIED:20260107T144832Z
UID:2178-1774107000-1774112400@northwestpiedmontmasternaturalist.org
SUMMARY:March Social
DESCRIPTION:Goose and the Monkey in Lexington. All the normal beverage options\, excellent food inside the same building
URL:https://northwestpiedmontmasternaturalist.org/event/march-social/
LOCATION:Goose and the Monkey\, 401 S Railroad St\, Lexington\, NC\, 27292
CATEGORIES:Social
END:VEVENT
BEGIN:VEVENT
DTSTART;TZID=America/New_York:20260418T090000
DTEND;TZID=America/New_York:20260418T150000
DTSTAMP:20260425T093325
CREATED:20260107T144714Z
LAST-MODIFIED:20260107T144714Z
UID:2181-1776502800-1776524400@northwestpiedmontmasternaturalist.org
SUMMARY:Emily Allen Wildflower Preserve
DESCRIPTION:Piedmont Land Conservancy property. An older home in Winston-Salem with an amazing wildflower garden
URL:https://northwestpiedmontmasternaturalist.org/event/emily-allen-wildflower-preserve/
LOCATION:Emily Allen Wildflower Preserve\, 1466 Old Town Rd\, Winston-Salem\, NC\, 27106
END:VEVENT
BEGIN:VEVENT
DTSTART;TZID=America/New_York:20260418T153000
DTEND;TZID=America/New_York:20260418T180000
DTSTAMP:20260425T093325
CREATED:20260403T195409Z
LAST-MODIFIED:20260403T195459Z
UID:2255-1776526200-1776535200@northwestpiedmontmasternaturalist.org
SUMMARY:April26 Social
DESCRIPTION:We will go to Wise Man Brewing after Emily Allen Wildflower Preserve and Bethabra. \nThey have all the normal beverage choices including non-alcoholic options.  They always have food trucks on sites and there’s a full-service restaurant across the street that delivers to WM. And lots of free parking\, but be careful about parking in front of Ramkat – that’s a paid parking area.
URL:https://northwestpiedmontmasternaturalist.org/event/april26-social/
LOCATION:Wise Man Brewing\, 826 Angelo Bros Ave\, Winston-Salem\, NC\, 27101\, United States
CATEGORIES:Social
END:VEVENT
BEGIN:VEVENT
DTSTART;TZID=America/New_York:20260516T090000
DTEND;TZID=America/New_York:20260516T150000
DTSTAMP:20260425T093325
CREATED:20260403T200016Z
LAST-MODIFIED:20260403T203458Z
UID:2258-1778922000-1778943600@northwestpiedmontmasternaturalist.org
SUMMARY:Mayo River State Park
DESCRIPTION:Mayo River State Park \n9am – meet at the Deshazo Mill access @ 113 Deshazo Rd\, Stoneville\, NC 27048 \nLunch and after – meet at the main site @ US-220 BUS\, Mayodan\, NC 27027 \nThere is a big State Park sign and you shouldn’t miss it\, but here are the GPS coordinates: 36.43058\, -79.95084
URL:https://northwestpiedmontmasternaturalist.org/event/mayo-river-state-park/
CATEGORIES:MN2026
END:VEVENT
END:VCALENDAR